BEGIN:VCALENDAR
VERSION:2.0
PRODID:-//AudioTheme 1.8.4
BEGIN:VEVENT
UID:http://uncloseband.com/?post_type=audiotheme_gig&#038;p=2842
URL:https://uncloseband.com/conciertos/az-alhondiga/
DTSTART;VALUE=DATE:20190322
SUMMARY:AZ (Alhóndiga)
LOCATION:Azkuna Zentroa\, Arriquíbar Plaza\, 4\, Bilbao\, \, 48010
END:VEVENT
END:VCALENDAR